BEGIN:VCALENDAR
VERSION:2.0
PRODID:-//Arrowhead Bike Farm - ECPv6.8.2.1//NONSGML v1.0//EN
CALSCALE:GREGORIAN
METHOD:PUBLISH
X-ORIGINAL-URL:https://arrowheadbikefarm.com
X-WR-CALDESC:Events for Arrowhead Bike Farm
REFRESH-INTERVAL;VALUE=DURATION:PT1H
X-Robots-Tag:noindex
X-PUBLISHED-TTL:PT1H
BEGIN:VTIMEZONE
TZID:UTC
BEGIN:STANDARD
TZOFFSETFROM:+0000
TZOFFSETTO:+0000
TZNAME:UTC
DTSTART:20220101T000000
END:STANDARD
END:VTIMEZONE
BEGIN:VEVENT
DTSTART;TZID=UTC:20220826T100000
DTEND;TZID=UTC:20220826T183000
DTSTAMP:20260422T114815
CREATED:20220820T191813Z
LAST-MODIFIED:20220820T191814Z
UID:6184-1661508000-1661538600@arrowheadbikefarm.com
SUMMARY:Adult Technical Clinic
DESCRIPTION:BOOK NOW!\n\n\n\n\n \n\n\n\nWhen: Every Friday & Sunday \n\n\n\n10 am\, 12:30 pm\, 2:30 pm\, & 4:30pm.  \n\n\n\nLooking to expand your technical skills when it comes to mtn. biking? Whether it is in the New River Gorge\, Ohio\, North Carolina\, or elsewhere? Looking to transition from road biking to mtn. biking? This two hour clinic is for you!  \n\n\n\nFormal instruction is a great way to expand your knowledge and skill level when it comes to technical and/or beginner trails. Going through a mountain biking intro can also be translated into your daily commute or road biking hobby.  \n\n\n\nWe are hosting a technical skills clinic for adults of all ages\, genders\, and demographics. We will bring you through a quick warm-up and then move onto our newly built technical obstacle course. There\, we will work on skills that vary from riding skinnies to front wheel\rear wheel lifts to drops to bunny hops to cornering to wheelies!  \n\n\n\nSkill level: Beginner – Intermediate \n\n\n\nWe also offer camping and fantastic food as well as local beer at our Handle Bar Restaurant.  \n\n\n\nBike Sizes: \n\n\n\nSizeRider HeightKids 24″4’4″-4’10”Extra Small4’10”-5’1″Small5’0″-5’4″Medium5’4″-5’9Medium/Large5’8″-5’11”Large5’10”-6’1″Extra Large6′-6’4″
URL:https://arrowheadbikefarm.com/event/adult-technical-clinic/2022-08-26/
LOCATION:Arrowhead Bike Farm\, 8263 Gatewood Rd\, Fayetteville\, WV\, 25840\, United States
ATTACH;FMTTYPE=image/png:https://arrowheadbikefarm.com/wp-content/uploads/2022/08/Screen-Shot-2022-08-14-at-5.31.40-PM.png
END:VEVENT
BEGIN:VEVENT
DTSTART;TZID=UTC:20220826T100000
DTEND;TZID=UTC:20220826T183000
DTSTAMP:20260422T114815
CREATED:20220820T192253Z
LAST-MODIFIED:20220820T192254Z
UID:6194-1661508000-1661538600@arrowheadbikefarm.com
SUMMARY:Youth Technical Clinics
DESCRIPTION:BOOK NOW!\n\n\n\n\nWhen: Every Friday & Sunday \n\n\n\n10 am\, 12:30 pm\, 2:30 pm\, & 4:30pm.  \n\n\n\nLooking to expand your youth’s technical skills when it comes to mtn. biking? Whether it is in the New River Gorge\, Ohio\, North Carolina\, or elsewhere? This two hour clinic is for you!  \n\n\n\nFormal instruction is a great way to expand your knowledge and skill level when it comes to technical and/or beginner/intermediate trails.  \n\n\n\nWe are hosting a technical skills clinic for youth (under 18)\, genders\, and demographics. We will bring you through a quick warm-up and then move onto our newly built technical obstacle course. There\, we will work on skills that vary from riding skinnies to front wheel\rear wheel lifts to drops to bunny hops to cornering to wheelies!  \n\n\n\n \n\n\n\nSkill level: Beginner – Intermediate \n\n\n\nBike Sizes: \n\n\n\nSizeRider HeightKids 24″4’4″-4’10”Extra Small4’10”-5’1″Small5’0″-5’4″Medium5’4″-5’9Medium/Large5’8″-5’11”Large5’10”-6’1″Extra Large6′-6’4″\n\n\n\nWe also offer camping and fantastic food as well as local beer at our Handle Bar Restaurant. 
URL:https://arrowheadbikefarm.com/event/youth-technical-clinics/2022-08-26/
LOCATION:Arrowhead Bike Farm\, 8263 Gatewood Rd\, Fayetteville\, WV\, 25840\, United States
ATTACH;FMTTYPE=image/jpeg:https://arrowheadbikefarm.com/wp-content/uploads/2021/11/IMG_20211109_111216.jpg
END:VEVENT
BEGIN:VEVENT
DTSTART;TZID=UTC:20220826T183000
DTEND;TZID=UTC:20220826T200000
DTSTAMP:20260422T114815
CREATED:20220811T215916Z
LAST-MODIFIED:20220811T215917Z
UID:6058-1661538600-1661544000@arrowheadbikefarm.com
SUMMARY:National Dog Day: Let's Walk Through the NRG
DESCRIPTION:Friday\, August 26th\, is National Dog Day! Join us at our dog-friendly farm at 6:30pm to go on a community building walk through the National Park. Based on the group’s skill level and preference we may choose from Long Point Trail\, Timber Ridge Trail\, Kaymoor Trail or the Arrowhead Trail System.  \n\n\n\nThink of this event as a fun way to meet people AND dogs in the area\, get your dog and self some exercise\, and join dog walkers even if you do not own a dog! *Hey\, people that wish they owned a dog- now’s your chance to come spend time with tons of dogs at once! Maybe your new friend will let you walk their dog for them!  \n\n\n\nPlease only bring dogs that are children/people and dog friendly!  \n\n\n\nDon’t forget a leash!  \n\n\n\nAfter\, lets enjoy some food and some local brews! Yes\, we will sell you that one brat for your dog! Do dogs like mustard?
URL:https://arrowheadbikefarm.com/event/national-dog-day-lets-walk-through-the-nrg/
LOCATION:Arrowhead Bike Farm\, 8263 Gatewood Rd\, Fayetteville\, WV\, 25840\, United States
ATTACH;FMTTYPE=image/jpeg:https://arrowheadbikefarm.com/wp-content/uploads/2022/08/IMG_2669-scaled.jpg
END:VEVENT
END:VCALENDAR